BEGIN:VCALENDAR
VERSION:2.0
PRODID:-//Indore - ECPv6.15.20//NONSGML v1.0//EN
CALSCALE:GREGORIAN
METHOD:PUBLISH
X-WR-CALNAME:Indore
X-ORIGINAL-URL:https://idka.in
X-WR-CALDESC:Events for Indore
REFRESH-INTERVAL;VALUE=DURATION:PT1H
X-Robots-Tag:noindex
X-PUBLISHED-TTL:PT1H
BEGIN:VTIMEZONE
TZID:Asia/Kolkata
BEGIN:STANDARD
TZOFFSETFROM:+0530
TZOFFSETTO:+0530
TZNAME:IST
DTSTART:20230101T000000
END:STANDARD
END:VTIMEZONE
BEGIN:VEVENT
DTSTART;TZID=Asia/Kolkata:20241006T080000
DTEND;TZID=Asia/Kolkata:20241006T170000
DTSTAMP:20260424T001557
CREATED:20240923T112228Z
LAST-MODIFIED:20240923T114128Z
UID:1812-1728201600-1728234000@idka.in
SUMMARY:Indore district karate championship - 2024
DESCRIPTION:Daly-college-1-1_ea2104f9-c55f-46bd-b5c1-d1456326da9d\n<!–more–>
URL:https://idka.in/event/indore-district-karate-championship-2024/
LOCATION:Daly college\, indore\, Daly college\, indore\, Indore\, Madhya Pradesh\, 452001\, India
CATEGORIES:Upcomimg Events
ATTACH;FMTTYPE=image/png:https://idka.in/wp-content/uploads/2024/09/indore-distric-karate.png
ORGANIZER;CN="Indore District Karate Associatiom":MAILTO:indoredistrictkarate2014@gmail.com
END:VEVENT
BEGIN:VEVENT
DTSTART;TZID=Asia/Kolkata:20240526T080000
DTEND;TZID=Asia/Kolkata:20240526T170000
DTSTAMP:20260424T001557
CREATED:20240530T070842Z
LAST-MODIFIED:20240530T071406Z
UID:1791-1716710400-1716742800@idka.in
SUMMARY:Gold Cup Karate Championship 2024
DESCRIPTION:Gold Cup 2024\n<!–more–>
URL:https://idka.in/event/gold-cup-karate-championship-2024/
LOCATION:Daly college\, indore\, Daly college\, indore\, Indore\, Madhya Pradesh\, 452001\, India
CATEGORIES:Past Events
ATTACH;FMTTYPE=image/jpeg:https://idka.in/wp-content/uploads/2024/05/gold-cup-karate-championship-2024.jpeg
ORGANIZER;CN="Indore District Karate Associatiom":MAILTO:indoredistrictkarate2014@gmail.com
END:VEVENT
BEGIN:VEVENT
DTSTART;TZID=Asia/Kolkata:20240417T080000
DTEND;TZID=Asia/Kolkata:20240417T080000
DTSTAMP:20260424T001557
CREATED:20240415T054956Z
LAST-MODIFIED:20240923T113206Z
UID:1634-1713340800-1713340800@idka.in
SUMMARY:01 Event
DESCRIPTION:
URL:https://idka.in/event/01-event/
LOCATION:indore\, indore\, indore\, Madhya Pradesh\, 451010\, India
CATEGORIES:Past Events
ATTACH;FMTTYPE=image/jpeg:https://idka.in/wp-content/uploads/2024/04/event-01.jpg
END:VEVENT
BEGIN:VEVENT
DTSTART;TZID=Asia/Kolkata:20240407T080000
DTEND;TZID=Asia/Kolkata:20240407T170000
DTSTAMP:20260424T001557
CREATED:20240407T140427Z
LAST-MODIFIED:20240415T142225Z
UID:1735-1712476800-1712509200@idka.in
SUMMARY:Annual General Meeting
DESCRIPTION:
URL:https://idka.in/event/annual-general-meeting/
LOCATION:Madhya Pradesh
END:VEVENT
END:VCALENDAR